BEGIN:VCALENDAR
VERSION:2.0
PRODID:-//BusraAtalay//Wedding//TR
CALSCALE:GREGORIAN
BEGIN:VEVENT
UID:busra-atalay-eskisehir@wedding.com
DTSTAMP:20260331T120000Z
DTSTART:20260514T130000Z
DTEND:20260514T150000Z
SUMMARY:Büşra & Atalay Düğün Töreni
DESCRIPTION:Büşra ve Atalay'ın mutlu gününe davetlisiniz.
LOCATION:Salon Lidya Park
END:VEVENT
END:VCALENDAR